BEGIN:VCALENDAR
VERSION:2.0
PRODID:-//Frankfurter Telemann-Gesellschaft e.V. - ECPv6.15.20//NONSGML v1.0//EN
CALSCALE:GREGORIAN
METHOD:PUBLISH
X-WR-CALNAME:Frankfurter Telemann-Gesellschaft e.V.
X-ORIGINAL-URL:https://telemann.info
X-WR-CALDESC:Veranstaltungen für Frankfurter Telemann-Gesellschaft e.V.
REFRESH-INTERVAL;VALUE=DURATION:PT1H
X-Robots-Tag:noindex
X-PUBLISHED-TTL:PT1H
BEGIN:VTIMEZONE
TZID:Europe/Berlin
BEGIN:DAYLIGHT
TZOFFSETFROM:+0100
TZOFFSETTO:+0200
TZNAME:CEST
DTSTART:20240331T010000
END:DAYLIGHT
BEGIN:STANDARD
TZOFFSETFROM:+0200
TZOFFSETTO:+0100
TZNAME:CET
DTSTART:20241027T010000
END:STANDARD
BEGIN:DAYLIGHT
TZOFFSETFROM:+0100
TZOFFSETTO:+0200
TZNAME:CEST
DTSTART:20250330T010000
END:DAYLIGHT
BEGIN:STANDARD
TZOFFSETFROM:+0200
TZOFFSETTO:+0100
TZNAME:CET
DTSTART:20251026T010000
END:STANDARD
BEGIN:DAYLIGHT
TZOFFSETFROM:+0100
TZOFFSETTO:+0200
TZNAME:CEST
DTSTART:20260329T010000
END:DAYLIGHT
BEGIN:STANDARD
TZOFFSETFROM:+0200
TZOFFSETTO:+0100
TZNAME:CET
DTSTART:20261025T010000
END:STANDARD
END:VTIMEZONE
BEGIN:VEVENT
DTSTART;TZID=Europe/Berlin:20250306T170000
DTEND;TZID=Europe/Berlin:20250306T190000
DTSTAMP:20260423T182625
CREATED:20250103T154746Z
LAST-MODIFIED:20250107T185037Z
UID:1665-1741280400-1741287600@telemann.info
SUMMARY:"Gottes Wort! Was ist das für ein Schatz?" - Telemanns Kantaten des "Französischen Jahrgangs"
DESCRIPTION:Am 6. März 2025 findet die nächste Kooperationsveranstaltung der Frankfurter Telemann-Gesellschaft mit der Ev. Akademie Frankfurt und weiteren Partnern statt. Auf dem Programm steht eine musikalische und theologische Einführung zu Kantaten des Französischen Jahrgangs\, die bislang noch nicht aufgeführt wurden (es referieren Felix Koch\, Olaf Lewerenz\, Daniela Philippi) sowie die Präsentation musikalischer Leckerbissen hieraus (es musizieren Georg Poplutz\, Tenor\, und Mitglieder des Neumeyer Consort).
URL:https://telemann.info/termine/gottes-wort-was-ist-das-fuer-ein-schatz-telemanns-kantanten-des-franzoesischen-jahrgangs
LOCATION:Evangelische Akademie Frankfurt\, Römerberg 9\, Frankfurt\, 60311
CATEGORIES:Musikbetrachtung
END:VEVENT
BEGIN:VEVENT
DTSTART;TZID=Europe/Berlin:20250309T160000
DTEND;TZID=Europe/Berlin:20250309T173000
DTSTAMP:20260423T182625
CREATED:20250104T174951Z
LAST-MODIFIED:20250104T191242Z
UID:1673-1741536000-1741541400@telemann.info
SUMMARY:Telemann Project in Offenbach am Main
DESCRIPTION:Georg Philipp Telemann (1681-1767): Kantaten aus dem Französischen Jahrgang\nTritt Arbeit und Beruf in Gottes Namen an   (TVWV 1:1418) – Septuagesimae \nGottes Wort   (TVWV 1:641) – Sexagesimae \nDer Herr ist mein getreuer Hirte   (TVWV 1:263) – 2. Sonntag nach Ostern \nVater unser im Himmelreich   (TVWV 1:1460) – Bitttage \nIch habe Lust abzuscheiden   (TVWV 1:834) – 16. Sonntag nach Trinitatis \nNathalie Beck\, Sopran  |  Stefanie Schaefer\, Alt\nGeorg Poplutz\, Tenor  |   Nikolaus Fluck\, Bass\nGutenberg Soloists  |  Neumeyer Consort\nLeitung: Felix Koch\n \nTickets/Informationen unter:\n Veranstaltungen | Collegium Musicum (uni-mainz.de)
URL:https://telemann.info/termine/telemann-project-in-offenbach-am-main
LOCATION:Markuskirche\, Offenbach\, Ob. Grenzstraße 9\, Offenbach am Main\, 63071\, Germany
CATEGORIES:Konzert
ATTACH;FMTTYPE=image/jpeg:https://telemann.info/wp-content/uploads/Logo-Telemannn-project-e1736014327936.jpg
END:VEVENT
END:VCALENDAR