BEGIN:VCALENDAR
VERSION:2.0
PRODID:-//Frankfurter Telemann-Gesellschaft e.V. - ECPv6.15.20//NONSGML v1.0//EN
CALSCALE:GREGORIAN
METHOD:PUBLISH
X-WR-CALNAME:Frankfurter Telemann-Gesellschaft e.V.
X-ORIGINAL-URL:https://telemann.info
X-WR-CALDESC:Veranstaltungen für Frankfurter Telemann-Gesellschaft e.V.
REFRESH-INTERVAL;VALUE=DURATION:PT1H
X-Robots-Tag:noindex
X-PUBLISHED-TTL:PT1H
BEGIN:VTIMEZONE
TZID:Europe/Berlin
BEGIN:DAYLIGHT
TZOFFSETFROM:+0100
TZOFFSETTO:+0200
TZNAME:CEST
DTSTART:20250330T010000
END:DAYLIGHT
BEGIN:STANDARD
TZOFFSETFROM:+0200
TZOFFSETTO:+0100
TZNAME:CET
DTSTART:20251026T010000
END:STANDARD
BEGIN:DAYLIGHT
TZOFFSETFROM:+0100
TZOFFSETTO:+0200
TZNAME:CEST
DTSTART:20260329T010000
END:DAYLIGHT
BEGIN:STANDARD
TZOFFSETFROM:+0200
TZOFFSETTO:+0100
TZNAME:CET
DTSTART:20261025T010000
END:STANDARD
BEGIN:DAYLIGHT
TZOFFSETFROM:+0100
TZOFFSETTO:+0200
TZNAME:CEST
DTSTART:20270328T010000
END:DAYLIGHT
BEGIN:STANDARD
TZOFFSETFROM:+0200
TZOFFSETTO:+0100
TZNAME:CET
DTSTART:20271031T010000
END:STANDARD
END:VTIMEZONE
BEGIN:VEVENT
DTSTART;TZID=Europe/Berlin:20260426T170000
DTEND;TZID=Europe/Berlin:20260426T183000
DTSTAMP:20260422T164236
CREATED:20260331T191106Z
LAST-MODIFIED:20260331T191106Z
UID:2001-1777222800-1777228200@telemann.info
SUMMARY:Die Kleine Kammermusik - Telemann abwechslungsreich
DESCRIPTION:Die Blockflötensonaten von G. Ph. Telemann \n​Jan Van Hoecke\, Michael Schneider – Blockflöte\nEva Maria Pollerus – Cembalo \n​Alle Blockflötensonaten in einem 75 minütigen Konzert? Ja\, das geht – denn auch wenn G.Ph. Telemann insgesamt außergewöhnlich viel und schön für die Blockflöte im Ensemble oder konzertierend komponiert hat\, so sind es doch „nur“ 9 relativ kurze Sonaten bzw. Son-tatinen für Blockflöte solo mit Generalbass. Dabei ist es faszinierend\, wie Telemann es schafft\, mit jeder Sonate eine eigene kleine Welt zu erschaffen – obwohl die Besetzung in diesen Werken immer gleich bleibt\, wird das Programm somit sehr abwechslungsreich. Außerdem wechseln sich die Interpreten ab: Michael Schneider und sein Nachfolger als Blockflötenprofessor an der HfMDK Frankfurt Jan Van Hoecke beschäftigt diese Musik ihr ganzes musikalisches Leben – nun wollen sie sich darüber austauschen und wir können ihre Kunst abwechselnd erleben. \nEine Veranstaltung des Vereins „Kleine Kammermusik e.V.“ in Kooperation mit der Evangelischen Akademie.
URL:https://telemann.info/termine/die-kleine-kammermusik-telemann-abwechslungsreich
LOCATION:Evangelische Akademie Frankfurt\, Römerberg 9\, Frankfurt\, 60311
CATEGORIES:Konzert
ATTACH;FMTTYPE=image/jpeg:https://telemann.info/wp-content/uploads/Logo-Kleine-Kammermusik.jpg
END:VEVENT
BEGIN:VEVENT
DTSTART;TZID=Europe/Berlin:20260508T180000
DTEND;TZID=Europe/Berlin:20260508T200000
DTSTAMP:20260422T164236
CREATED:20260320T103751Z
LAST-MODIFIED:20260320T103751Z
UID:1994-1778263200-1778270400@telemann.info
SUMMARY:Jahresmitgliederversammlung 2026
DESCRIPTION:Die jährliche Mitgliederversammlung findet am Freitag\, den 08. Mai 2026 in der St. Jakobskirche in Frankfurt am Main statt.\nDie musikalische Umrahmung übernehmen avancierte Studierende der Hochschule für Musik und Darstellende Kunst Frankfurt. \nGäste sind herzlich willkommen. \n 
URL:https://telemann.info/termine/jahresmitgliederversammlung-2026
LOCATION:St. Jakobskirche\, Kirchplatz 9\, 60487 Frankfurt am Main\, Kirchplatz 9\, Frankfurt am Main\, 60487\, Germany
CATEGORIES:Mitgliederversammlung
ATTACH;FMTTYPE=image/png:https://telemann.info/wp-content/uploads/openclipart-vectors-meeting-152506_640.png
END:VEVENT
BEGIN:VEVENT
DTSTART;TZID=Europe/Berlin:20260531T170000
DTEND;TZID=Europe/Berlin:20260531T183000
DTSTAMP:20260422T164236
CREATED:20260331T191925Z
LAST-MODIFIED:20260331T191925Z
UID:2004-1780246800-1780252200@telemann.info
SUMMARY:Die Kleine Kammermusik – Telemann auf Augenhöhe
DESCRIPTION:Kammermusik von G. Ph. Telemann \nStudierende und Lehrende des HIP-Instituts für Historische Interpretationspraxis der HfMDK\,\nmit dabei Daniela Lieb\, Jan Van Hoecke\, Eva Maria Pollerus u.a. \n​Auch wenn G.Ph. Telemann selbst in der Musik überwiegend Autodidakt war und seine wenigen Erfahrungen als Clavierschüler als „vierzehntägige Marter“ beschrieb\, so dachte er doch umgekehrt zeitlebens pädagogisch. Er dürfte dabei viel „auf Augenhöhe“ unterrichtet haben; bereits als Gymnasiast ließ sich sein Lehrer nach wenigen Wochen von ihm im Singunterricht vertreten und auch im Leipziger Collegium Musicum leitete er seine Kommilitonen an. Die Veröffentlichung einer didaktischen Zeitschrift „Der getreue Music-Meister“ ist ein weiteres Beispiel von G.Ph. Telemanns Leidenschaft\, nicht nur höchstqualitative Musik zu schreiben\, sondern diese auch möglichst vielen Menschen zu vermitteln\, „Wer vielen nutzen kan / Thut besser / als wer nur für wenige was schreibet“\, ist sein Motto. Seine Musik\, an der sich „ein Anfänger üben\, ein Meister hören lassen kann“\, wächst gewissermaßen mit dem wachsenden Können der Ausführenden mit – sie bildet also geradezu ideales Repertoire für Studierende ebenso wie für erfahrene Profis. Baro-cke musikalische Lehrwerke sind häufig in der Form eines Dialogs von „Lehrer und Schü-ler“ geschrieben – diese Idee wollen wir in diesem Konzert nachstellen. Wir freuen uns\, Ihnen besonders begabte Studierende des Instituts für historische Interpretationspraxis der HfMDK im Zusammenspiel mit ihren jeweiligen Lehrenden und eigens für diesen Abend konzipiertem Programm präsentieren zu können – seien Sie gespannt auf die Meister von morgen! \nEine Veranstaltung des Vereins „Kleine Kammermusik e.V.“ in Kooperation mit der Evangelischen Akademie.
URL:https://telemann.info/termine/die-kleine-kammermusik-telemann-auf-augenhoehe
LOCATION:Evangelische Akademie Frankfurt\, Römerberg 9\, Frankfurt\, 60311
CATEGORIES:Konzert
ATTACH;FMTTYPE=image/jpeg:https://telemann.info/wp-content/uploads/Logo-Kleine-Kammermusik.jpg
END:VEVENT
BEGIN:VEVENT
DTSTART;TZID=Europe/Berlin:20260927T170000
DTEND;TZID=Europe/Berlin:20260927T183000
DTSTAMP:20260422T164236
CREATED:20260331T192344Z
LAST-MODIFIED:20260331T192344Z
UID:2006-1790528400-1790533800@telemann.info
SUMMARY:Die Kleine Kammermusik – Liebwerthester Freund Telemann!
DESCRIPTION:Georg Philipp Telemannn im Briefwechsel mit seinen Freunden \nCembalo- und Clavierwerke von G.Ph. Telemann\, J. Mattheson\, C.P.E. Bach u.a. \nSabine Fischmann – Rezitation\nEva Maria Pollerus – Cembalo \n​Wir begegnen G.Ph. Telemann in diesem Konzert ganz besonders direkt – in seinen eigenen ausführlichen Schriften und Briefen wird er uns erstaunlich nahbar. Auch aus der Perspektive seiner Freunde wie J. Mattheson und G.F. Händel oder seines Patensohns C.P.E. Bach erfahren wir allerhand Privates über den Menschen Telemann und bekommen ein Gefühl für ihn\, seine Gedanken- und Gefühlswelt und natürlich über seine Liebe zur Musik. Die wunderbare multitalentierte Schauspielerin\, Sängerin\, Pianistin Sabine Fischmann lässt Telemanns Texte lebendig werden. Ihr Gegenüber am Cembalo und dem Clavier ist für diesen Abend Eva Maria Pollerus\, die eine Lanze für Telemanns selten gespielte Musik für Tasteninstrument brechen und sie in den Kontext seiner Zeitgenossen stellen wird. \nEine Veranstaltung des Vereins „Kleine Kammermusik e.V.“ in Kooperation mit der Evangelischen Akademie.
URL:https://telemann.info/termine/die-kleine-kammermusik-liebwerthester-freund-telemann
LOCATION:Evangelische Akademie Frankfurt\, Römerberg 9\, Frankfurt\, 60311
CATEGORIES:Konzert
ATTACH;FMTTYPE=image/jpeg:https://telemann.info/wp-content/uploads/Logo-Kleine-Kammermusik.jpg
END:VEVENT
BEGIN:VEVENT
DTSTART;TZID=Europe/Berlin:20261025T170000
DTEND;TZID=Europe/Berlin:20261025T183000
DTSTAMP:20260422T164236
CREATED:20260331T192821Z
LAST-MODIFIED:20260331T192821Z
UID:2008-1792947600-1792953000@telemann.info
SUMMARY:Die Kleine Kammermusik – Telemann im Land der Riesen
DESCRIPTION:Gulliver-Suite und andere Werke für 2 Violinen mit und ohne b.c. \n​​Petra Müllejans\, Bernhard Forck – Violinen\nKadra Dreizehnter – Cembalo\nN.N. – Cello \n​​Wenn sich mit Petra Müllejans\, langjährige Konzertmeisterin des Freiburger Barockorches-ters\, und Bernhard Forck\, langjährigen Konzertmeister der Akademie für Alte Musik Berlin\, zwei „Riesen“ der Alten Musik-Szene zum Musizieren treffen\, ist Außergewöhnliches zu er-warten! Umso mehr\, wenn sie sich dabei wenig bekannte Musik von G. Ph. Telemann in \nDuett und Duell gemeinsam mit dem Publikum entdecken und ihre Virtuosität\, ihren Witz und ihre Tiefe ausloten. Neben Musik für zwei Violinen und Basso continuo wird unter an-derem die höchst originelle Suite zum satirischen Roman „Gullivers Reisen“ von Jonathan Swift\, der 1726 erschienen ist\, erklingen – eine Suite\, in der G:Ph. Telemanns Humor und bildhafte Musiksprache besonders zur Geltung kommt. \nEine Veranstaltung des Vereins „Kleine Kammermusik e.V.“ in Kooperation mit der Evangelischen Akademie.
URL:https://telemann.info/termine/die-kleine-kammermusik-telemann-im-land-der-riesen
LOCATION:Evangelische Akademie Frankfurt\, Römerberg 9\, Frankfurt\, 60311
CATEGORIES:Konzert
ATTACH;FMTTYPE=image/jpeg:https://telemann.info/wp-content/uploads/Logo-Kleine-Kammermusik.jpg
END:VEVENT
END:VCALENDAR