BEGIN:VCALENDAR
VERSION:2.0
PRODID:-//Frankfurter Telemann-Gesellschaft e.V. - ECPv6.15.20//NONSGML v1.0//EN
CALSCALE:GREGORIAN
METHOD:PUBLISH
X-ORIGINAL-URL:https://telemann.info
X-WR-CALDESC:Veranstaltungen für Frankfurter Telemann-Gesellschaft e.V.
REFRESH-INTERVAL;VALUE=DURATION:PT1H
X-Robots-Tag:noindex
X-PUBLISHED-TTL:PT1H
BEGIN:VTIMEZONE
TZID:Europe/Berlin
BEGIN:DAYLIGHT
TZOFFSETFROM:+0100
TZOFFSETTO:+0200
TZNAME:CEST
DTSTART:20240331T010000
END:DAYLIGHT
BEGIN:STANDARD
TZOFFSETFROM:+0200
TZOFFSETTO:+0100
TZNAME:CET
DTSTART:20241027T010000
END:STANDARD
BEGIN:DAYLIGHT
TZOFFSETFROM:+0100
TZOFFSETTO:+0200
TZNAME:CEST
DTSTART:20250330T010000
END:DAYLIGHT
BEGIN:STANDARD
TZOFFSETFROM:+0200
TZOFFSETTO:+0100
TZNAME:CET
DTSTART:20251026T010000
END:STANDARD
BEGIN:DAYLIGHT
TZOFFSETFROM:+0100
TZOFFSETTO:+0200
TZNAME:CEST
DTSTART:20260329T010000
END:DAYLIGHT
BEGIN:STANDARD
TZOFFSETFROM:+0200
TZOFFSETTO:+0100
TZNAME:CET
DTSTART:20261025T010000
END:STANDARD
END:VTIMEZONE
BEGIN:VEVENT
DTSTART;TZID=Europe/Berlin:20251116T170000
DTEND;TZID=Europe/Berlin:20251116T183000
DTSTAMP:20260422T182431
CREATED:20250327T180832Z
LAST-MODIFIED:20250924T174441Z
UID:1734-1763312400-1763317800@telemann.info
SUMMARY:Die Kleine Kammermusik - Telemann cantabel!
DESCRIPTION:Telemann cantabel!\n„Singen ist das Fundament in allen Dingen“ \nMoralische Kantaten\, Six Trio & Suites etc. \nGeorg Poplutz (Tenor)\, Daniela Lieb (Traversflöte)\, Eva Maria Pollerus (Cembalo) \n„Singen ist das Fundament in allen Dingen“ – dieser berühmte Ausspruch Telemanns stimmt natürlich ganz besonders für seine eigene Musik\, die in allen Sätzen singt – egal ob vokal oder instrumental! So lassen wir neben dem fantastischen Tenor Georg Poplutz auch die Traversflöte und das Cembalo singen und sprechen und in den „Singe- Spiel- und Generalbassübungen“\, den durchaus unterhaltsamen „Moralischen Kantaten“\, aber auch den „Six Concerts & Suites“ miteinander in Dialog treten. Gerade diese „Trios für zwei“\, die Concerte und Suiten in Besetzung Traversflöte und konzertierendem Cembalo\, sind nach wie vor selten zu erleben\, obwohl sie zu den besten Werken dieses Genres gehören!
URL:https://telemann.info/termine/die-kleine-kammermusik-telemann-cantabel
LOCATION:Evangelische Akademie Frankfurt\, Römerberg 9\, Frankfurt\, 60311
CATEGORIES:Konzert
ATTACH;FMTTYPE=image/jpeg:https://telemann.info/wp-content/uploads/Logo-Kleine-Kammermusik.jpg
END:VEVENT
BEGIN:VEVENT
DTSTART;TZID=Europe/Berlin:20251109T170000
DTEND;TZID=Europe/Berlin:20251109T183000
DTSTAMP:20260422T182431
CREATED:20250812T063547Z
LAST-MODIFIED:20251008T124537Z
UID:1867-1762707600-1762713000@telemann.info
SUMMARY:Kammerkonzert bei Kerzenschein 2025
DESCRIPTION:Georg Philipp Telemann (1681–1767)\nConcerto für Viola und Streicher G-Dur TWV 51:G9\nOuverture e-Moll TWV 55:e2\nOuverture c-Moll TWV 55:c2\nOuverture d-Moll TWV 55:d2 \nCarl Philipp Emanuel Bach (1714–1788)\nArioso aus der Gambensonate C-Dur Wq 136 \nViola: Bettina Rühl\nJunge Sinfoniker Frankfurt\nLeitung: Bernhard Lingner \nIn Zusammenarbeit mit der Frankfurter Telemann-Gesellschaft e.V. \nEintritt frei\, um Spenden wird gebeten.
URL:https://telemann.info/termine/kammerkonzert-bei-kerzenschein-2025
LOCATION:Ev.-Luth. Wartburgkirche\, Hartmann-Ibach-Str. 108\, Frankfurt am Main\, 60389\, Germany
CATEGORIES:Konzert
ATTACH;FMTTYPE=image/jpeg:https://telemann.info/wp-content/uploads/JSF-bunt.jpg
END:VEVENT
BEGIN:VEVENT
DTSTART;TZID=Europe/Berlin:20251025T180000
DTEND;TZID=Europe/Berlin:20251025T193000
DTSTAMP:20260422T182431
CREATED:20250815T190737Z
LAST-MODIFIED:20251014T160913Z
UID:1877-1761415200-1761420600@telemann.info
SUMMARY:Abschlusskonzert Frankfurter Telemann-Tage 2025
DESCRIPTION:Boxberg: „Bestelle dein Haus“ • Telemann: Trauerkantate „Du aber\, Daniel gehe hin“ • Bach: Kantate „Gottes Zeit ist die allerbeste Zeit“ BWV 106 – Annemarie Pfahler (Sopran) • Melinda Paulsen (Alt) • Erik Grevenbrock-Reinhardt (Tenor) • Matthias Horn (Bass) • Neumeyer Consort • Leitung: Felix Koch \nKarten: € 25\,- / 12\,- (ermäßigt)\nKartenbuchung: https://www.frankfurtticket.de/ und Abendkasse\, St. Katharinen-Gemeinde \nDies ist eine Veranstaltung im Rahmen der Frankfurter Telemann-Tage 2025.
URL:https://telemann.info/termine/abschlusskonzert-frankfurter-telemann-tage-2025
LOCATION:St. Katharinenkirche\, An der Hauptwache\, Zeil 131\, Frankfurt am Main\, 60313
CATEGORIES:Konzert
ATTACH;FMTTYPE=image/jpeg:https://telemann.info/wp-content/uploads/2025_FtTT-Homepage-Bild-1zu1-klein.jpg
END:VEVENT
BEGIN:VEVENT
DTSTART;TZID=Europe/Berlin:20251023T193000
DTEND;TZID=Europe/Berlin:20251023T210000
DTSTAMP:20260422T182431
CREATED:20250815T191941Z
LAST-MODIFIED:20250924T161935Z
UID:1880-1761247800-1761253200@telemann.info
SUMMARY:Konzert - "Lustiger Mischmasch"
DESCRIPTION:„Lustiger Mischmasch“ • Studierende des Instituts für Historische Interpretationspraxis musizieren Telemann \nin Kooperation mit dem Institut für Historische Interpretationspraxis der HfMDK Frankfurt am Main \nKarten: € 8\,- / 6\,- (ermäßigt)\nKartenbuchung: www.hfmdk-frankfurt.de und Abendkasse \nDies ist eine Veranstaltung im Rahmen der Frankfurter Telemann-Tage 2025. \n  \n 
URL:https://telemann.info/termine/konzert-lustiger-mischmasch
LOCATION:Hochschule für Musik und Darstellende Kunst Frankfurt\, Eschersheimer Landstraße 29\, Frankfurt am Main\, 60322
CATEGORIES:Konzert
ATTACH;FMTTYPE=image/jpeg:https://telemann.info/wp-content/uploads/2025_FtTT-Homepage-Bild-1zu1-klein.jpg
END:VEVENT
BEGIN:VEVENT
DTSTART;TZID=Europe/Berlin:20251021T161500
DTEND;TZID=Europe/Berlin:20251021T173000
DTSTAMP:20260422T182431
CREATED:20250815T194426Z
LAST-MODIFIED:20251012T190100Z
UID:1896-1761063300-1761067800@telemann.info
SUMMARY:Vortrag – "Telemanns Spekulationen und erreichte Ziele". Frankfurter Bürger-Universität
DESCRIPTION:Frankfurter Bürger-Universität – „Telemanns Spekulationen und erreichte Ziele“ • Referentin: Daniela Philippi\nWeitere Informationen finden Sie im Beitrag unter „Neuigkeiten“ auf der Homepage des Institus für Musikwissenschaften\, pdf zum Download steht zur Verfügung. \nin Kooperation mit dem Institut für Musikwissenschaft der Goethe-Universität und der Frankfurter Telemann-Gesellschaft e. V. \nEintritt frei; Anmeldung nicht erforderlich. \nDies ist eine Veranstaltung im Rahmen der Frankfurter Telemann-Tage 2025. \n  \n 
URL:https://telemann.info/termine/vortrag-telemanns-spekulationen-und-erreichte-ziele-frankfurter-buerger-universitaet
LOCATION:Goethe-Universität\, Campus Westend\, SKW\, Hörsaal B\, Rostocker Str. 2\, Frankfurt am Main\, Hessen\, 60323\, Germany
ATTACH;FMTTYPE=image/jpeg:https://telemann.info/wp-content/uploads/2025_FtTT-Homepage-Bild-1zu1-klein.jpg
END:VEVENT
BEGIN:VEVENT
DTSTART;TZID=Europe/Berlin:20251019T170000
DTEND;TZID=Europe/Berlin:20251019T183000
DTSTAMP:20260422T182431
CREATED:20250327T180428Z
LAST-MODIFIED:20250924T162006Z
UID:1732-1760893200-1760898600@telemann.info
SUMMARY:Die Kleine Kammermusik - Telemann preisgekrönt!
DESCRIPTION:Konzert mit Preisträgern des Internationalen Telemann-Wettbewerbs Magdeburg 2025 \nDass sich viele junge Musikerinnen und Musiker so seriös mit Telemann beschäftigen\, ist nicht zuletzt der Verdienst der Magdeburger Telemann-Gesellschaft\, die alle zwei Jahre\, einen Telemann gewidmeten Wettbewerb ausrichtet. Ende März 2025 findet er dieses Jahr wieder statt\, 102 Ensembles und Solisten aus 29 Nationen haben sich darauf monatelang vorbereitet. Wir freuen uns\, ein junges Preisträgerensemble oder eine/n Preisträger/in des diesjährigen Wettbewerbs bei uns präsentieren zu dürfen und laden die jungen Preisträger ein\, Werke aus Telemanns Frankfurter Zeit zu gestalten. Seien Sie gespannt auf die nächste Generation! \nDies ist eine Veranstaltung im Rahmen der Frankfurter Telemann-Tage 2025.
URL:https://telemann.info/termine/die-kleine-kammermusik-telemann-preisgekroent
LOCATION:Evangelische Akademie Frankfurt\, Römerberg 9\, Frankfurt\, 60311
CATEGORIES:Konzert
ATTACH;FMTTYPE=image/jpeg:https://telemann.info/wp-content/uploads/2025_FtTT-Homepage-Bild-1zu1-klein.jpg
END:VEVENT
BEGIN:VEVENT
DTSTART;TZID=Europe/Berlin:20251012T150000
DTEND;TZID=Europe/Berlin:20251012T160000
DTSTAMP:20260422T182431
CREATED:20250810T141118Z
LAST-MODIFIED:20250924T162015Z
UID:1811-1760281200-1760284800@telemann.info
SUMMARY:Stadtrundgang auf den Spuren Telemanns
DESCRIPTION:Stadtrundgang auf den Spuren Telemanns • „Ich dachte daran\, wie warm ich in Franckfurt bey 1600 fl. saß\, und reiste weiter“ • Leitung: Carsten Schwöbel \nStart: ab Alte Nikolaikirche am Römerberg\nAnmeldung: info@paulsgemeinde.de\, Ev.-luth. St. Paulsgemeinde Frankfurt am Main \nDies ist eine Veranstaltung im Rahmen der Frankfurter Telemann-Tage 2025.
URL:https://telemann.info/termine/stadtrundgang-auf-den-spuren-telemanns-2
ATTACH;FMTTYPE=image/jpeg:https://telemann.info/wp-content/uploads/2025_FtTT-Homepage-Bild-1zu1-klein.jpg
END:VEVENT
BEGIN:VEVENT
DTSTART;TZID=Europe/Berlin:20251008T130000
DTEND;TZID=Europe/Berlin:20251008T133000
DTSTAMP:20260422T182431
CREATED:20250815T193840Z
LAST-MODIFIED:20250924T162028Z
UID:1891-1759928400-1759930200@telemann.info
SUMMARY:Orgelmusik am Mittag "Telemann und seine Zeit"
DESCRIPTION:Orgelmusik am Mittag „Telemann und seine Zeit“ • An der Oberlinger-Orgel spielen: Maximilian Bauer (1.10.) und Sebastian Müller (8.10.) \nEintritt frei; Anmeldung nicht erforderlich. \nDies ist eine Veranstaltung im Rahmen der Frankfurter Telemann-Tage 2025.
URL:https://telemann.info/termine/orgelmusik-am-mittag-telemann-und-seine-zeit-2
LOCATION:Alte Nikolaikirche\, Römerberg\, Frankfurt am Main\, 60311
ATTACH;FMTTYPE=image/jpeg:https://telemann.info/wp-content/uploads/2025_FtTT-Homepage-Bild-1zu1-klein.jpg
END:VEVENT
BEGIN:VEVENT
DTSTART;TZID=Europe/Berlin:20251001T130000
DTEND;TZID=Europe/Berlin:20251001T133000
DTSTAMP:20260422T182431
CREATED:20250815T193522Z
LAST-MODIFIED:20250924T162038Z
UID:1885-1759323600-1759325400@telemann.info
SUMMARY:Orgelmusik am Mittag "Telemann und seine Zeit"
DESCRIPTION:Orgelmusik am Mittag „Telemann und seine Zeit“ • An der Oberlinger-Orgel spielen: Maximilian Bauer (1.10.) und Sebastian Müller (8.10.) \nEintritt frei; Anmeldung nicht erforderlich. \nDies ist eine Veranstaltung im Rahmen der Frankfurter Telemann-Tage 2025. \n 
URL:https://telemann.info/termine/orgelmusik-am-mittag-telemann-und-seine-zeit
LOCATION:Alte Nikolaikirche\, Römerberg\, Frankfurt am Main\, 60311
ATTACH;FMTTYPE=image/jpeg:https://telemann.info/wp-content/uploads/2025_FtTT-Homepage-Bild-1zu1-klein.jpg
END:VEVENT
BEGIN:VEVENT
DTSTART;TZID=Europe/Berlin:20250930T183000
DTEND;TZID=Europe/Berlin:20250930T193000
DTSTAMP:20260422T182431
CREATED:20250810T143454Z
LAST-MODIFIED:20250924T162048Z
UID:1828-1759257000-1759260600@telemann.info
SUMMARY:Schüler- und Bürgerkonzert der Stadt Frankfurt – "Mit Geigen gegen Windmühlen"
DESCRIPTION:Schülerkonzerte und Bürgerkonzert der Stadt Frankfurt – „Mit Geigen gegen Windmühlen“ • Telemann\, Don Quixote Suite und Musik aus Solokonzerten • Philharmonisches Orchester Frankfurt • Moderation und musikalische Leitung: Christoph Gotthardt \nVeranstaltungsort: Festsaal der Freimaurer-Loge Zur Einigkeit e.V.\nEintritt frei\, Reservierung (notwendig) per Mail an ProMusicaFrankfurt@gmx.de (möglich bis 29. September\, 12 Uhr; die Reservierung wird gültig nach Mailbestätigung) \nIn Kooperation mit der Freimaurer-Loge Zur Einigkeit. \nDies ist eine Veranstaltung im Rahmen der Frankfurter Telemann-Tage 2025.
URL:https://telemann.info/termine/schueler-und-buergerkonzert-der-stadt-frankfurt-mit-geigen-gegen-windmuehlen-3
LOCATION:Freimaurer-Loge Zur Einigkeit e.V.\, Kaiserstr. 37\, Frankfurt\, Hessen\, 60329
ATTACH;FMTTYPE=image/jpeg:https://telemann.info/wp-content/uploads/2025_FtTT-Homepage-Bild-1zu1-klein.jpg
END:VEVENT
BEGIN:VEVENT
DTSTART;TZID=Europe/Berlin:20250930T114500
DTEND;TZID=Europe/Berlin:20250930T124500
DTSTAMP:20260422T182431
CREATED:20250810T143316Z
LAST-MODIFIED:20250924T162118Z
UID:1826-1759232700-1759236300@telemann.info
SUMMARY:Schüler- und Bürgerkonzert der Stadt Frankfurt – "Mit Geigen gegen Windmühlen"
DESCRIPTION:Schülerkonzerte und Bürgerkonzert der Stadt Frankfurt – „Mit Geigen gegen Windmühlen“ • Telemann\, Don Quixote Suite und Musik aus Solokonzerten • Philharmonisches Orchester Frankfurt • Moderation und musikalische Leitung: Christoph Gotthardt \nVeranstaltungsort: Festsaal der Freimaurer-Loge Zur Einigkeit e.V.\nEintritt frei\, Reservierung (notwendig) per Mail an ProMusicaFrankfurt@gmx.de (möglich bis 29. September\, 12 Uhr; die Reservierung wird gültig nach Mailbestätigung) \nIn Kooperation mit der Freimaurer-Loge Zur Einigkeit. \nDies ist eine Veranstaltung im Rahmen der Frankfurter Telemann-Tage 2025.
URL:https://telemann.info/termine/schueler-und-buergerkonzert-der-stadt-frankfurt-mit-geigen-gegen-windmuehlen-2
LOCATION:Freimaurer-Loge Zur Einigkeit e.V.\, Kaiserstr. 37\, Frankfurt\, Hessen\, 60329
ATTACH;FMTTYPE=image/jpeg:https://telemann.info/wp-content/uploads/2025_FtTT-Homepage-Bild-1zu1-klein.jpg
END:VEVENT
BEGIN:VEVENT
DTSTART;TZID=Europe/Berlin:20250930T103000
DTEND;TZID=Europe/Berlin:20250930T113000
DTSTAMP:20260422T182431
CREATED:20250810T142853Z
LAST-MODIFIED:20250924T162128Z
UID:1821-1759228200-1759231800@telemann.info
SUMMARY:Schüler- und Bürgerkonzert der Stadt Frankfurt – "Mit Geigen gegen Windmühlen"
DESCRIPTION:Schülerkonzerte und Bürgerkonzert der Stadt Frankfurt – „Mit Geigen gegen Windmühlen“ • Telemann\, Don Quixote Suite und Musik aus Solokonzerten • Philharmonisches Orchester Frankfurt • Moderation und musikalische Leitung: Christoph Gotthardt \nVeranstaltungsort: Festsaal der Freimaurer-Loge Zur Einigkeit e.V.\nEintritt frei\, Reservierung (notwendig) per Mail an ProMusicaFrankfurt@gmx.de (möglich bis 29. September\, 12 Uhr; die Reservierung wird gültig nach Mailbestätigung) \nIn Kooperation mit der Freimaurer-Loge Zur Einigkeit. \nDies ist eine Veranstaltung im Rahmen der Frankfurter Telemann-Tage 2025. \n 
URL:https://telemann.info/termine/schueler-und-buergerkonzert-der-stadt-frankfurt-mit-geigen-gegen-windmuehlen
LOCATION:Freimaurer-Loge Zur Einigkeit e.V.\, Kaiserstr. 37\, Frankfurt\, Hessen\, 60329
ATTACH;FMTTYPE=image/jpeg:https://telemann.info/wp-content/uploads/2025_FtTT-Homepage-Bild-1zu1-klein.jpg
END:VEVENT
BEGIN:VEVENT
DTSTART;TZID=Europe/Berlin:20250928T150000
DTEND;TZID=Europe/Berlin:20250928T160000
DTSTAMP:20260422T182431
CREATED:20250810T141033Z
LAST-MODIFIED:20250924T162137Z
UID:1809-1759071600-1759075200@telemann.info
SUMMARY:Stadtrundgang auf den Spuren Telemanns
DESCRIPTION:Stadtrundgang auf den Spuren Telemanns • „Ich dachte daran\, wie warm ich in Franckfurt bey 1600 fl. saß\, und reiste weiter“ • Leitung: Carsten Schwöbel \nStart: ab Alte Nikolaikirche am Römerberg\nAnmeldung: info@paulsgemeinde.de\, Ev.-luth. St. Paulsgemeinde Frankfurt am Main \nEin weiterer Stadrundgang findet am 12. Oktober statt. \nDies ist eine Veranstaltung im Rahmen der Frankfurter Telemann-Tage 2025.
URL:https://telemann.info/termine/stadtrundgang-auf-den-spuren-telemanns
ATTACH;FMTTYPE=image/jpeg:https://telemann.info/wp-content/uploads/2025_FtTT-Homepage-Bild-1zu1-klein.jpg
END:VEVENT
BEGIN:VEVENT
DTSTART;TZID=Europe/Berlin:20250920T180000
DTEND;TZID=Europe/Berlin:20250920T200000
DTSTAMP:20260422T182431
CREATED:20250810T135404Z
LAST-MODIFIED:20250924T162147Z
UID:1797-1758391200-1758398400@telemann.info
SUMMARY:Eröffnungskonzert Frankfurter Telemann-Tage 2025 - "Telemann-Projekt 2025"
DESCRIPTION:Fünf Kantaten des „Französischen Jahrgangs“ (Frankfurt 1713/14)\, Erstaufführung nach über 250 Jahren – Anna Feith (Sopran) • Susanne Langer (Alt) • Oliver Kringel (Tenor) • Thilo Dahlmann (Bass) • Gutenberg Soloists • Neumeyer Consort • Leitung: Felix Koch \nIn Kooperation mit dem Forum Alte Musik Frankfurt am Main\, der St. Katharinen-Gemeinde Frankfurt am Main und der Johannes Gutenberg-Universität Mainz \nKarten: € 25\,- / 12\,- und 5\,- (ermäßigt)\nKartenbuchung: über www.ticket-regional.de \nDies ist eine Veranstaltung im Rahmen der Frankfurter Telemann-Tage 2025.
URL:https://telemann.info/termine/eroeffnungskonzert-frankfurter-telemann-tage-2025-telemann-projekt-2025
LOCATION:St. Katharinenkirche\, An der Hauptwache\, Zeil 131\, Frankfurt am Main\, 60313
CATEGORIES:Konzert
ATTACH;FMTTYPE=image/jpeg:https://telemann.info/wp-content/uploads/2025_FtTT-Homepage-Bild-1zu1-klein.jpg
END:VEVENT
BEGIN:VEVENT
DTSTART;TZID=Europe/Berlin:20250629T110000
DTEND;TZID=Europe/Berlin:20250629T130000
DTSTAMP:20260422T182431
CREATED:20250529T160702Z
LAST-MODIFIED:20250923T172517Z
UID:1743-1751194800-1751202000@telemann.info
SUMMARY:Oper Frankfurt - 10. Kammermusik im Holzfoyer
DESCRIPTION:Das Horus Ensemble\, dem auch zwei unserer Mitglieder angehören\, widmet sich in diesem Vormittagskonzert verschiedenen »Duetti vari e pezzi rari«.\n \nZu den „diversen Duetten und seltenen Stücken“ zählen Werke von Georg Friedrich Händel\, Georg Philipp Telemann\, Antonio Caldara\, Benedetto Marcello und Christoph Graupner\, bei denen die „Zweisamkeiten“ von zwei Geigen\, zwei Celli oder zwei Barock-Hörnern im Mittelpunkt stehen. \n  \n  \n 
URL:https://telemann.info/termine/oper-frankfurt-10-kammermusik-im-holzfoyer
LOCATION:Oper Frankfurt\, Untermainanlage 11\, Frankfurt am Main\, 60311\, Germany
CATEGORIES:Konzert
END:VEVENT
BEGIN:VEVENT
DTSTART;TZID=Europe/Berlin:20250616T180000
DTEND;TZID=Europe/Berlin:20250616T190000
DTSTAMP:20260422T182431
CREATED:20250327T181239Z
LAST-MODIFIED:20260320T102039Z
UID:1715-1750096800-1750100400@telemann.info
SUMMARY:Jahresmitgliederversammlung 2025
DESCRIPTION:Die jährliche Mitgliederversammlung findet am Montag\, den 16. Juni 2025 in der St. Jakobskirche in Frankfurt am Main statt.\nDie musikalische Umrahmung übernehmen avancierte Studierende der Hochschule für Musik und Darstellende Kunst Frankfurt. \nWeitere Details folgen.
URL:https://telemann.info/termine/jahresmitgliederversammlung2025
LOCATION:St. Jakobskirche\, Kirchplatz 9\, 60487 Frankfurt am Main\, Kirchplatz 9\, Frankfurt am Main\, 60487\, Germany
CATEGORIES:Mitgliederversammlung
END:VEVENT
BEGIN:VEVENT
DTSTART;TZID=Europe/Berlin:20250601T170000
DTEND;TZID=Europe/Berlin:20250601T183000
DTSTAMP:20260422T182431
CREATED:20250327T175900Z
LAST-MODIFIED:20250923T172532Z
UID:1729-1748797200-1748802600@telemann.info
SUMMARY:Die Kleine Kammermusik - Telemann sensibel!
DESCRIPTION:Telemann sensibel! \nDie Triosonaten für Blockflöte und Diskantgambe/Pardessus \nJan Van Hoecke (Blockflöte)\, Heidi Gröger (Diskantgambe/Pardessus)\, Seulki Bae (Cembalo) \nDas zweite Konzert in dieser Saison widmet sich einer der originellsten Besetzungen\, für die Telemann komponiert hat\, dem Zusammenklang von Blockflöte („Flauto dolce“) und Diskantgambe („Dessus de Viole“) bzw. Pardessus. Die hohen Gambeninstrumente sind heute selten zu hören\, obwohl ihr süßer und singender Klang besonders atmosphärisch ist. Die Werke werden\, wenn überhaupt\, meist mit Bratsche besetzt – doch in diesem Konzert können sie den eigentlichen Zauber dieser sensiblen und modulierfähigen Instrumente\, die Telemann natürlich ganz bewusst einsetzt\, erleben! Im Konzert wird eine originale 5-saitige Pardessus von Benoît Fleury aus dem Jahr 1751 erklingen. Die Musiker*innen des Abends Jan Van Hoecke\, Heidi Gröger und Seulki Bae freuen sich auf die gemeinsame Entdeckungsreise.
URL:https://telemann.info/termine/die-kleine-kammermusik-telemann-sensibel
LOCATION:Evangelische Akademie Frankfurt\, Römerberg 9\, Frankfurt\, 60311
CATEGORIES:Konzert
ATTACH;FMTTYPE=image/jpeg:https://telemann.info/wp-content/uploads/Logo-Kleine-Kammermusik.jpg
END:VEVENT
BEGIN:VEVENT
DTSTART;TZID=Europe/Berlin:20250427T160000
DTEND;TZID=Europe/Berlin:20250427T173000
DTSTAMP:20260422T182431
CREATED:20250327T175150Z
LAST-MODIFIED:20250327T175150Z
UID:1682-1745769600-1745775000@telemann.info
SUMMARY:Die Kleine Kammermusik - Telemann berührend!
DESCRIPTION:Telemann berührend!\n„…auf eine unaussprechliche Art bin gerühret worden“ \nFantasien\, Sonaten und Trios für die „Hautbois“ \nAlfredo Bernardini (Barockoboe)\, Emanuele Breda (Barockvioline)\, Kristin von der Goltz (Barockcello)\, Eva Maria Pollerus (Cembalo) \nZum Auftakt dieser Saison widmen wir unser erstes Konzert einem der Lieblingsinstrumente von Georg Philipp Telemann\, der Oboe\, und haben dazu keinen geringeren als den international gefeierten Meister dieses Instruments Alfredo Bernardini\, gewinnen können. Im Vorwort zur 1716 in Frankfurt erschienenen Sammlung „Kleine Cammer-Music“ bringt Telemann mit der Widmung an gleich vier der bedeutendsten Oboisten seiner Zeit nicht nur die Wertschätzung\, sondern auch die ganz spezielle Kenntnis der besonderen Stärken und Schönheiten dieses Instruments\, das er ja auch selbst gespielt hat\, zum Ausdruck. Lassen Sie sich die schönsten kammermusikalischen Werke für Oboe gemeinsam mit Violine und Basso continuo nicht entgehen.
URL:https://telemann.info/termine/die-kleine-kammermusik
LOCATION:Evangelische Akademie Frankfurt\, Römerberg 9\, Frankfurt\, 60311
CATEGORIES:Konzert
ATTACH;FMTTYPE=image/jpeg:https://telemann.info/wp-content/uploads/Logo-Kleine-Kammermusik.jpg
END:VEVENT
BEGIN:VEVENT
DTSTART;TZID=Europe/Berlin:20250309T160000
DTEND;TZID=Europe/Berlin:20250309T173000
DTSTAMP:20260422T182431
CREATED:20250104T174951Z
LAST-MODIFIED:20250104T191242Z
UID:1673-1741536000-1741541400@telemann.info
SUMMARY:Telemann Project in Offenbach am Main
DESCRIPTION:Georg Philipp Telemann (1681-1767): Kantaten aus dem Französischen Jahrgang\nTritt Arbeit und Beruf in Gottes Namen an   (TVWV 1:1418) – Septuagesimae \nGottes Wort   (TVWV 1:641) – Sexagesimae \nDer Herr ist mein getreuer Hirte   (TVWV 1:263) – 2. Sonntag nach Ostern \nVater unser im Himmelreich   (TVWV 1:1460) – Bitttage \nIch habe Lust abzuscheiden   (TVWV 1:834) – 16. Sonntag nach Trinitatis \nNathalie Beck\, Sopran  |  Stefanie Schaefer\, Alt\nGeorg Poplutz\, Tenor  |   Nikolaus Fluck\, Bass\nGutenberg Soloists  |  Neumeyer Consort\nLeitung: Felix Koch\n \nTickets/Informationen unter:\n Veranstaltungen | Collegium Musicum (uni-mainz.de)
URL:https://telemann.info/termine/telemann-project-in-offenbach-am-main
LOCATION:Markuskirche\, Offenbach\, Ob. Grenzstraße 9\, Offenbach am Main\, 63071\, Germany
CATEGORIES:Konzert
ATTACH;FMTTYPE=image/jpeg:https://telemann.info/wp-content/uploads/Logo-Telemannn-project-e1736014327936.jpg
END:VEVENT
BEGIN:VEVENT
DTSTART;TZID=Europe/Berlin:20250306T170000
DTEND;TZID=Europe/Berlin:20250306T190000
DTSTAMP:20260422T182431
CREATED:20250103T154746Z
LAST-MODIFIED:20250107T185037Z
UID:1665-1741280400-1741287600@telemann.info
SUMMARY:"Gottes Wort! Was ist das für ein Schatz?" - Telemanns Kantaten des "Französischen Jahrgangs"
DESCRIPTION:Am 6. März 2025 findet die nächste Kooperationsveranstaltung der Frankfurter Telemann-Gesellschaft mit der Ev. Akademie Frankfurt und weiteren Partnern statt. Auf dem Programm steht eine musikalische und theologische Einführung zu Kantaten des Französischen Jahrgangs\, die bislang noch nicht aufgeführt wurden (es referieren Felix Koch\, Olaf Lewerenz\, Daniela Philippi) sowie die Präsentation musikalischer Leckerbissen hieraus (es musizieren Georg Poplutz\, Tenor\, und Mitglieder des Neumeyer Consort).
URL:https://telemann.info/termine/gottes-wort-was-ist-das-fuer-ein-schatz-telemanns-kantanten-des-franzoesischen-jahrgangs
LOCATION:Evangelische Akademie Frankfurt\, Römerberg 9\, Frankfurt\, 60311
CATEGORIES:Musikbetrachtung
END:VEVENT
END:VCALENDAR