BEGIN:VCALENDAR
VERSION:2.0
PRODID:-//Frankfurter Telemann-Gesellschaft e.V. - ECPv6.15.20//NONSGML v1.0//EN
CALSCALE:GREGORIAN
METHOD:PUBLISH
X-ORIGINAL-URL:https://telemann.info
X-WR-CALDESC:Veranstaltungen für Frankfurter Telemann-Gesellschaft e.V.
REFRESH-INTERVAL;VALUE=DURATION:PT1H
X-Robots-Tag:noindex
X-PUBLISHED-TTL:PT1H
BEGIN:VTIMEZONE
TZID:Europe/Berlin
BEGIN:DAYLIGHT
TZOFFSETFROM:+0100
TZOFFSETTO:+0200
TZNAME:CEST
DTSTART:20240331T010000
END:DAYLIGHT
BEGIN:STANDARD
TZOFFSETFROM:+0200
TZOFFSETTO:+0100
TZNAME:CET
DTSTART:20241027T010000
END:STANDARD
BEGIN:DAYLIGHT
TZOFFSETFROM:+0100
TZOFFSETTO:+0200
TZNAME:CEST
DTSTART:20250330T010000
END:DAYLIGHT
BEGIN:STANDARD
TZOFFSETFROM:+0200
TZOFFSETTO:+0100
TZNAME:CET
DTSTART:20251026T010000
END:STANDARD
BEGIN:DAYLIGHT
TZOFFSETFROM:+0100
TZOFFSETTO:+0200
TZNAME:CEST
DTSTART:20260329T010000
END:DAYLIGHT
BEGIN:STANDARD
TZOFFSETFROM:+0200
TZOFFSETTO:+0100
TZNAME:CET
DTSTART:20261025T010000
END:STANDARD
END:VTIMEZONE
BEGIN:VEVENT
DTSTART;TZID=Europe/Berlin:20251012T150000
DTEND;TZID=Europe/Berlin:20251012T160000
DTSTAMP:20260423T065544
CREATED:20250810T141118Z
LAST-MODIFIED:20250924T162015Z
UID:1811-1760281200-1760284800@telemann.info
SUMMARY:Stadtrundgang auf den Spuren Telemanns
DESCRIPTION:Stadtrundgang auf den Spuren Telemanns • „Ich dachte daran\, wie warm ich in Franckfurt bey 1600 fl. saß\, und reiste weiter“ • Leitung: Carsten Schwöbel \nStart: ab Alte Nikolaikirche am Römerberg\nAnmeldung: info@paulsgemeinde.de\, Ev.-luth. St. Paulsgemeinde Frankfurt am Main \nDies ist eine Veranstaltung im Rahmen der Frankfurter Telemann-Tage 2025.
URL:https://telemann.info/termine/stadtrundgang-auf-den-spuren-telemanns-2
ATTACH;FMTTYPE=image/jpeg:https://telemann.info/wp-content/uploads/2025_FtTT-Homepage-Bild-1zu1-klein.jpg
END:VEVENT
END:VCALENDAR